BEGIN:VCALENDAR
PRODID:-//Feedo Feed//NONSGML v1.0//EN
VERSION:2.0
CALSCALE:GREGORIAN
METHOD:PUBLISH
X-WR-CALNAME:Abbie Winger
X-WR-CALDESC:
X-MS-OLK-FORCEINSPECTOROPEN:TRUE
BEGIN:VEVENT
DTSTAMP:20260423T222914Z
DTSTART:20170906T150000Z
DTEND:20170906T154500Z
TRANSP:TRANSPARENT
UID:582852017-09-06
SUMMARY:Abbie Winger
DESCRIPTION:
URL:http://www.cmcatlanta.com/index.php/component/ohanah/abbie-winger?format=html&amp;Itemid=
CATEGORIES:Richard Mills
GEO:
LOCATION:CMC Brookhaven, Private Lesson
END:VEVENT
END:VCALENDAR