BEGIN:VCALENDAR
PRODID:-//Feedo Feed//NONSGML v1.0//EN
VERSION:2.0
CALSCALE:GREGORIAN
METHOD:PUBLISH
X-WR-CALNAME:Abigail Avruvin (sub in for Thayer Naples)
X-WR-CALDESC:
X-MS-OLK-FORCEINSPECTOROPEN:TRUE
BEGIN:VEVENT
DTSTAMP:20260424T022710Z
DTSTART:20211023T140000Z
DTEND:20211023T143000Z
TRANSP:TRANSPARENT
UID:1015602021-10-23
SUMMARY:Abigail Avruvin (sub in for Thayer Naples)
DESCRIPTION:
URL:http://www.cmcatlanta.com/index.php/component/ohanah/abigail-aruven-5?format=html&amp;Itemid=
CATEGORIES:Akeal Evans
GEO:33.7646878;-84.35068100000001
LOCATION:CMC Little 5 Points, Private Lesson
END:VEVENT
END:VCALENDAR