BEGIN:VCALENDAR
PRODID:-//Feedo Feed//NONSGML v1.0//EN
VERSION:2.0
CALSCALE:GREGORIAN
METHOD:PUBLISH
X-WR-CALNAME:Abigail Coleman
X-WR-CALDESC:in person
X-MS-OLK-FORCEINSPECTOROPEN:TRUE
BEGIN:VEVENT
DTSTAMP:20260420T155957Z
DTSTART:20210413T211500Z
DTEND:20210413T214500Z
TRANSP:TRANSPARENT
UID:945782021-04-13
SUMMARY:Abigail Coleman
DESCRIPTION:in person
URL:http://www.cmcatlanta.com/index.php/component/ohanah/abigail-coleman-136?format=html&amp;Itemid=
CATEGORIES:Peter Sloan
GEO:33.7704955;-84.29584339999997
LOCATION:CMC Decatur, Private Lesson
END:VEVENT
END:VCALENDAR