BEGIN:VCALENDAR
PRODID:-//Feedo Feed//NONSGML v1.0//EN
VERSION:2.0
CALSCALE:GREGORIAN
METHOD:PUBLISH
X-WR-CALNAME:Abigail Coleman
X-WR-CALDESC:
X-MS-OLK-FORCEINSPECTOROPEN:TRUE
BEGIN:VEVENT
DTSTAMP:20260421T200437Z
DTSTART:20220811T190000Z
DTEND:20220811T193000Z
TRANSP:TRANSPARENT
UID:972362022-08-11
SUMMARY:Abigail Coleman
DESCRIPTION:
URL:http://www.cmcatlanta.com/index.php/component/ohanah/abigail-coleman-77-25?format=html&amp;Itemid=
CATEGORIES:Gage Lindsay
GEO:33.7704955;-84.29584339999997
LOCATION:CMC Decatur, Private Lesson
END:VEVENT
END:VCALENDAR