BEGIN:VCALENDAR
PRODID:-//Feedo Feed//NONSGML v1.0//EN
VERSION:2.0
CALSCALE:GREGORIAN
METHOD:PUBLISH
X-WR-CALNAME:Abigail Coleman
X-WR-CALDESC:in person
X-MS-OLK-FORCEINSPECTOROPEN:TRUE
BEGIN:VEVENT
DTSTAMP:20260420T155156Z
DTSTART:20201215T211500Z
DTEND:20201215T214500Z
TRANSP:TRANSPARENT
UID:945612020-12-15
SUMMARY:Abigail Coleman
DESCRIPTION:in person
URL:http://www.cmcatlanta.com/index.php/component/ohanah/abigail-coleman-88?format=html&amp;Itemid=
CATEGORIES:Peter Sloan
GEO:33.7704955;-84.29584339999997
LOCATION:CMC Decatur, Private Lesson
END:VEVENT
END:VCALENDAR