BEGIN:VCALENDAR
PRODID:-//Feedo Feed//NONSGML v1.0//EN
VERSION:2.0
CALSCALE:GREGORIAN
METHOD:PUBLISH
X-WR-CALNAME:Abigail Colman
X-WR-CALDESC:
X-MS-OLK-FORCEINSPECTOROPEN:TRUE
BEGIN:VEVENT
DTSTAMP:20260420T232459Z
DTSTART:20220428T140000Z
DTEND:20220428T143000Z
TRANSP:TRANSPARENT
UID:1052792022-04-28
SUMMARY:Abigail Colman
DESCRIPTION:
URL:http://www.cmcatlanta.com/index.php/component/ohanah/abigail-colman?format=html&amp;Itemid=
CATEGORIES:Gage Lindsay
GEO:
LOCATION:
END:VEVENT
END:VCALENDAR