BEGIN:VCALENDAR
PRODID:-//Feedo Feed//NONSGML v1.0//EN
VERSION:2.0
CALSCALE:GREGORIAN
METHOD:PUBLISH
X-WR-CALNAME:Addison Murfin-Higel
X-WR-CALDESC:
X-MS-OLK-FORCEINSPECTOROPEN:TRUE
BEGIN:VEVENT
DTSTAMP:20260422T092620Z
DTSTART:20230308T203000Z
DTEND:20230308T210000Z
TRANSP:TRANSPARENT
UID:1101452023-03-08
SUMMARY:Addison Murfin-Higel
DESCRIPTION:
URL:http://www.cmcatlanta.com/index.php/component/ohanah/addison-murfin-higel-48?format=html&amp;Itemid=
CATEGORIES:Brock Tammeus
GEO:33.7704955;-84.29584339999997
LOCATION:CMC Decatur, Private Lesson
END:VEVENT
END:VCALENDAR