BEGIN:VCALENDAR
PRODID:-//Feedo Feed//NONSGML v1.0//EN
VERSION:2.0
CALSCALE:GREGORIAN
METHOD:PUBLISH
X-WR-CALNAME:Adlai Chang
X-WR-CALDESC:In-person.  Learning pod/afterschool program.
X-MS-OLK-FORCEINSPECTOROPEN:TRUE
BEGIN:VEVENT
DTSTAMP:20260421T055621Z
DTSTART:20210128T193000Z
DTEND:20210128T200000Z
TRANSP:TRANSPARENT
UID:910162021-01-28
SUMMARY:Adlai Chang
DESCRIPTION:In-person.  Learning pod/afterschool program.
URL:http://www.cmcatlanta.com/index.php/component/ohanah/adlai-chang-59-29?format=html&amp;Itemid=
CATEGORIES:Peter Sloan
GEO:33.7704955;-84.29584339999997
LOCATION:CMC Decatur, Private Lesson
END:VEVENT
END:VCALENDAR