BEGIN:VCALENDAR
PRODID:-//Feedo Feed//NONSGML v1.0//EN
VERSION:2.0
CALSCALE:GREGORIAN
METHOD:PUBLISH
X-WR-CALNAME:Adriana Kerr
X-WR-CALDESC:online
X-MS-OLK-FORCEINSPECTOROPEN:TRUE
BEGIN:VEVENT
DTSTAMP:20260420T161053Z
DTSTART:20210105T153000Z
DTEND:20210105T160000Z
TRANSP:TRANSPARENT
UID:912422021-01-05
SUMMARY:Adriana Kerr
DESCRIPTION:online
URL:http://www.cmcatlanta.com/index.php/component/ohanah/adriana-kerr-8-17?format=html&amp;Itemid=
CATEGORIES:Richard Mills
GEO:33.7704955;-84.29584339999997
LOCATION:CMC Decatur
END:VEVENT
END:VCALENDAR