BEGIN:VCALENDAR
PRODID:-//Feedo Feed//NONSGML v1.0//EN
VERSION:2.0
CALSCALE:GREGORIAN
METHOD:PUBLISH
X-WR-CALNAME:Aine Kelly 
X-WR-CALDESC:
X-MS-OLK-FORCEINSPECTOROPEN:TRUE
BEGIN:VEVENT
DTSTAMP:20260422T144921Z
DTSTART:20210608T220000Z
DTEND:20210608T223000Z
TRANSP:TRANSPARENT
UID:952492021-06-08
SUMMARY:Aine Kelly 
DESCRIPTION:
URL:http://www.cmcatlanta.com/index.php/component/ohanah/aine-kelly-11-9?format=html&amp;Itemid=
CATEGORIES:Peter Sloan
GEO:33.7704955;-84.29584339999997
LOCATION:CMC Decatur, Private Lesson
END:VEVENT
END:VCALENDAR