BEGIN:VCALENDAR
PRODID:-//Feedo Feed//NONSGML v1.0//EN
VERSION:2.0
CALSCALE:GREGORIAN
METHOD:PUBLISH
X-WR-CALNAME:Aiqi Shen
X-WR-CALDESC:
X-MS-OLK-FORCEINSPECTOROPEN:TRUE
BEGIN:VEVENT
DTSTAMP:20260420T095642Z
DTSTART:20200505T223000Z
DTEND:20200505T230000Z
TRANSP:TRANSPARENT
UID:889522020-05-05
SUMMARY:Aiqi Shen
DESCRIPTION:
URL:http://www.cmcatlanta.com/index.php/component/ohanah/aiqi-shen-13?format=html&amp;Itemid=
CATEGORIES:Jenn Cornell
GEO:33.9462125;-84.33464730000003
LOCATION:CMC Dunwoody, Private Lesson
END:VEVENT
END:VCALENDAR