BEGIN:VCALENDAR
PRODID:-//Feedo Feed//NONSGML v1.0//EN
VERSION:2.0
CALSCALE:GREGORIAN
METHOD:PUBLISH
X-WR-CALNAME:CMC L5P Piano/Strings Camp 
X-WR-CALDESC:
X-MS-OLK-FORCEINSPECTOROPEN:TRUE
BEGIN:VEVENT
DTSTAMP:20260424T200409Z
DTSTART:20230622T110000Z
DTEND:20230622T190000Z
TRANSP:TRANSPARENT
UID:1111402023-06-22
SUMMARY:CMC L5P Piano/Strings Camp 
DESCRIPTION:
URL:http://www.cmcatlanta.com/index.php/component/ohanah/akeal-evans-approved-absence-3?format=html&amp;Itemid=
CATEGORIES:Akeal Evans
GEO:33.764702;-84.35057239999998
LOCATION:CMC Little Five Points, Faculty Assignment
END:VEVENT
END:VCALENDAR