BEGIN:VCALENDAR
PRODID:-//Feedo Feed//NONSGML v1.0//EN
VERSION:2.0
CALSCALE:GREGORIAN
METHOD:PUBLISH
X-WR-CALNAME:Alisa Krop
X-WR-CALDESC:
X-MS-OLK-FORCEINSPECTOROPEN:TRUE
BEGIN:VEVENT
DTSTAMP:20260420T181835Z
DTSTART:20260429T150000Z
DTEND:20260429T153000Z
TRANSP:TRANSPARENT
UID:1308632026-04-29
SUMMARY:Alisa Krop
DESCRIPTION:
URL:http://www.cmcatlanta.com/index.php/component/ohanah/alisa-krop-1?format=html&amp;Itemid=
CATEGORIES:Kaela Barlow
GEO:33.7704955;-84.29584339999997
LOCATION:CMC Decatur, Private Lesson
END:VEVENT
END:VCALENDAR