BEGIN:VCALENDAR
PRODID:-//Feedo Feed//NONSGML v1.0//EN
VERSION:2.0
CALSCALE:GREGORIAN
METHOD:PUBLISH
X-WR-CALNAME:Allistair Reedy-Smith
X-WR-CALDESC:
X-MS-OLK-FORCEINSPECTOROPEN:TRUE
BEGIN:VEVENT
DTSTAMP:20260423T231657Z
DTSTART:20180521T193000Z
DTEND:20180521T200000Z
TRANSP:TRANSPARENT
UID:479512018-05-21
SUMMARY:Allistair Reedy-Smith
DESCRIPTION:
URL:http://www.cmcatlanta.com/index.php/component/ohanah/allistair-reedy-smith-32?format=html&amp;Itemid=
CATEGORIES:Johnson Gouvea
GEO:33.7646878;-84.35068100000001
LOCATION:CMC Little 5 Points, Private Lesson
END:VEVENT
END:VCALENDAR