BEGIN:VCALENDAR
PRODID:-//Feedo Feed//NONSGML v1.0//EN
VERSION:2.0
CALSCALE:GREGORIAN
METHOD:PUBLISH
X-WR-CALNAME:Althea Nash
X-WR-CALDESC:
X-MS-OLK-FORCEINSPECTOROPEN:TRUE
BEGIN:VEVENT
DTSTAMP:20260421T072318Z
DTSTART:20210427T200000Z
DTEND:20210427T203000Z
TRANSP:TRANSPARENT
UID:950702021-04-27
SUMMARY:Althea Nash
DESCRIPTION:
URL:http://www.cmcatlanta.com/index.php/component/ohanah/althea-nash-24?format=html&amp;Itemid=
CATEGORIES:Stephen Pepper
GEO:33.7646878;-84.35068100000001
LOCATION:CMC Little 5 Points, Private Lesson
END:VEVENT
END:VCALENDAR