BEGIN:VCALENDAR
PRODID:-//Feedo Feed//NONSGML v1.0//EN
VERSION:2.0
CALSCALE:GREGORIAN
METHOD:PUBLISH
X-WR-CALNAME:Amelia Johnson (Wednesday)
X-WR-CALDESC:
X-MS-OLK-FORCEINSPECTOROPEN:TRUE
BEGIN:VEVENT
DTSTAMP:20260422T021956Z
DTSTART:20221109T210000Z
DTEND:20221109T213000Z
TRANSP:TRANSPARENT
UID:1095902022-11-09
SUMMARY:Amelia Johnson (Wednesday)
DESCRIPTION:
URL:http://www.cmcatlanta.com/index.php/component/ohanah/amelia-johnson-wednesday-12?format=html&amp;Itemid=
CATEGORIES:Stephanie Cordoba 
GEO:33.7704955;-84.29584339999997
LOCATION:CMC Decatur, Private Lesson
END:VEVENT
END:VCALENDAR