BEGIN:VCALENDAR
PRODID:-//Feedo Feed//NONSGML v1.0//EN
VERSION:2.0
CALSCALE:GREGORIAN
METHOD:PUBLISH
X-WR-CALNAME:AMHS Ensemble
X-WR-CALDESC:
X-MS-OLK-FORCEINSPECTOROPEN:TRUE
BEGIN:VEVENT
DTSTAMP:20260420T212550Z
DTSTART:20260515T090000Z
DTEND:20260515T110000Z
TRANSP:TRANSPARENT
UID:1303552026-05-15
SUMMARY:AMHS Ensemble
DESCRIPTION:
URL:http://www.cmcatlanta.com/index.php/component/ohanah/amhs-ensemble-59?format=html&amp;Itemid=
CATEGORIES:Peter Sloan
GEO:33.764702;-84.35057239999998
LOCATION:CMC Little Five Points, Faculty Assignment
END:VEVENT
END:VCALENDAR