BEGIN:VCALENDAR
PRODID:-//Feedo Feed//NONSGML v1.0//EN
VERSION:2.0
CALSCALE:GREGORIAN
METHOD:PUBLISH
X-WR-CALNAME:AMHS Term begins
X-WR-CALDESC:First day of lessons, classes, ensembles for Atlanta Music High School, including in person and online instruction.\nMore info about Atlanta Music High School
X-MS-OLK-FORCEINSPECTOROPEN:TRUE
BEGIN:VEVENT
DTSTAMP:20260423T005154Z
DTSTART:20210816T080000Z
DTEND:20210816T080000Z
TRANSP:TRANSPARENT
UID:967842021-08-16
SUMMARY:AMHS Term begins
DESCRIPTION:First day of lessons, classes, ensembles for Atlanta Music High School, including in person and online instruction.\nMore info about Atlanta Music High School
URL:http://www.cmcatlanta.com/index.php/component/ohanah/amhs-term-begins?format=html&amp;Itemid=
CATEGORIES:Master Calendar
GEO:33.7646878;-84.35068100000001
LOCATION:CMC Little 5 Points 
END:VEVENT
END:VCALENDAR