BEGIN:VCALENDAR
PRODID:-//Feedo Feed//NONSGML v1.0//EN
VERSION:2.0
CALSCALE:GREGORIAN
METHOD:PUBLISH
X-WR-CALNAME:Amirah Crute
X-WR-CALDESC:
X-MS-OLK-FORCEINSPECTOROPEN:TRUE
BEGIN:VEVENT
DTSTAMP:20260422T160803Z
DTSTART:20210705T083000Z
DTEND:20210705T090000Z
TRANSP:TRANSPARENT
UID:958772021-07-05
SUMMARY:Amirah Crute
DESCRIPTION:
URL:http://www.cmcatlanta.com/index.php/component/ohanah/amirah-crute-1?format=html&amp;Itemid=
CATEGORIES:Peter Sloan
GEO:
LOCATION:CMC Decatur Private Lesson
END:VEVENT
END:VCALENDAR