BEGIN:VCALENDAR
PRODID:-//Feedo Feed//NONSGML v1.0//EN
VERSION:2.0
CALSCALE:GREGORIAN
METHOD:PUBLISH
X-WR-CALNAME:AMP and piano curriculum meeting (cancelled)
X-WR-CALDESC:
X-MS-OLK-FORCEINSPECTOROPEN:TRUE
BEGIN:VEVENT
DTSTAMP:20260423T091301Z
DTSTART:20210916T110000Z
DTEND:20210916T120000Z
TRANSP:TRANSPARENT
UID:1027542021-09-16
SUMMARY:AMP and piano curriculum meeting (cancelled)
DESCRIPTION:
URL:http://www.cmcatlanta.com/index.php/component/ohanah/amp-and-piano-curriculum-meeting-44-3?format=html&amp;Itemid=
CATEGORIES:Stephanie Cordoba 
GEO:
LOCATION:
END:VEVENT
END:VCALENDAR