BEGIN:VCALENDAR
PRODID:-//Feedo Feed//NONSGML v1.0//EN
VERSION:2.0
CALSCALE:GREGORIAN
METHOD:PUBLISH
X-WR-CALNAME:AMP and piano curriculum meeting
X-WR-CALDESC:
X-MS-OLK-FORCEINSPECTOROPEN:TRUE
BEGIN:VEVENT
DTSTAMP:20260423T091256Z
DTSTART:20211007T110000Z
DTEND:20211007T120000Z
TRANSP:TRANSPARENT
UID:1027572021-10-07
SUMMARY:AMP and piano curriculum meeting
DESCRIPTION:
URL:http://www.cmcatlanta.com/index.php/component/ohanah/amp-and-piano-curriculum-meeting-44-4?format=html&amp;Itemid=
CATEGORIES:Stephanie Cordoba 
GEO:
LOCATION:
END:VEVENT
END:VCALENDAR