BEGIN:VCALENDAR
PRODID:-//Feedo Feed//NONSGML v1.0//EN
VERSION:2.0
CALSCALE:GREGORIAN
METHOD:PUBLISH
X-WR-CALNAME:AMP and private lesson faculty meeting
X-WR-CALDESC:
X-MS-OLK-FORCEINSPECTOROPEN:TRUE
BEGIN:VEVENT
DTSTAMP:20260420T101334Z
DTSTART:20220408T160000Z
DTEND:20220408T170000Z
TRANSP:TRANSPARENT
UID:1045932022-04-08
SUMMARY:AMP and private lesson faculty meeting
DESCRIPTION:
URL:http://www.cmcatlanta.com/index.php/component/ohanah/amp-and-private-lesson-faculty-meeting-25?format=html&amp;Itemid=
CATEGORIES:Akeal Evans
GEO:33.764702;-84.35057239999998
LOCATION:CMC Little Five Points, Faculty Assignment
END:VEVENT
END:VCALENDAR