BEGIN:VCALENDAR
PRODID:-//Feedo Feed//NONSGML v1.0//EN
VERSION:2.0
CALSCALE:GREGORIAN
METHOD:PUBLISH
X-WR-CALNAME:Anjili Mohan
X-WR-CALDESC:Online
X-MS-OLK-FORCEINSPECTOROPEN:TRUE
BEGIN:VEVENT
DTSTAMP:20260420T161720Z
DTSTART:20201109T213000Z
DTEND:20201109T220000Z
TRANSP:TRANSPARENT
UID:911932020-11-09
SUMMARY:Anjili Mohan
DESCRIPTION:Online
URL:http://www.cmcatlanta.com/index.php/component/ohanah/anjili-mohan-13?format=html&amp;Itemid=
CATEGORIES:Richard Mills
GEO:33.7704955;-84.29584339999997
LOCATION:CMC Decatur, Private Lesson
END:VEVENT
END:VCALENDAR