BEGIN:VCALENDAR
PRODID:-//Feedo Feed//NONSGML v1.0//EN
VERSION:2.0
CALSCALE:GREGORIAN
METHOD:PUBLISH
X-WR-CALNAME:Anjili Mohan
X-WR-CALDESC:Online
X-MS-OLK-FORCEINSPECTOROPEN:TRUE
BEGIN:VEVENT
DTSTAMP:20260420T212808Z
DTSTART:20210524T213000Z
DTEND:20210524T220000Z
TRANSP:TRANSPARENT
UID:912212021-05-24
SUMMARY:Anjili Mohan
DESCRIPTION:Online
URL:http://www.cmcatlanta.com/index.php/component/ohanah/anjili-mohan-36?format=html&amp;Itemid=
CATEGORIES:Richard Mills
GEO:33.7704955;-84.29584339999997
LOCATION:CMC Decatur, Private Lesson
END:VEVENT
END:VCALENDAR