BEGIN:VCALENDAR
PRODID:-//Feedo Feed//NONSGML v1.0//EN
VERSION:2.0
CALSCALE:GREGORIAN
METHOD:PUBLISH
X-WR-CALNAME:Anna Kelly
X-WR-CALDESC:sub in for Jeff Herzog
X-MS-OLK-FORCEINSPECTOROPEN:TRUE
BEGIN:VEVENT
DTSTAMP:20260423T202922Z
DTSTART:20210908T220000Z
DTEND:20210909T223000Z
TRANSP:TRANSPARENT
UID:1027912021-09-08
SUMMARY:Anna Kelly
DESCRIPTION:sub in for Jeff Herzog
URL:http://www.cmcatlanta.com/index.php/component/ohanah/anna-kelly?format=html&amp;Itemid=
CATEGORIES:Stephen Pepper
GEO:33.7704955;-84.29584339999997
LOCATION:CMC Decatur, Private Lesson
END:VEVENT
END:VCALENDAR