BEGIN:VCALENDAR
PRODID:-//Feedo Feed//NONSGML v1.0//EN
VERSION:2.0
CALSCALE:GREGORIAN
METHOD:PUBLISH
X-WR-CALNAME:Anna Loffredio
X-WR-CALDESC:
X-MS-OLK-FORCEINSPECTOROPEN:TRUE
BEGIN:VEVENT
DTSTAMP:20260424T111910Z
DTSTART:20180513T173000Z
DTEND:20180513T180000Z
TRANSP:TRANSPARENT
UID:593862018-05-13
SUMMARY:Anna Loffredio
DESCRIPTION:
URL:http://www.cmcatlanta.com/index.php/component/ohanah/anna-loffredio-28?format=html&amp;Itemid=
CATEGORIES:Richard Mills
GEO:33.9462125;-84.33464730000003
LOCATION:CMC Dunwoody, Private Lesson
END:VEVENT
END:VCALENDAR