BEGIN:VCALENDAR
PRODID:-//Feedo Feed//NONSGML v1.0//EN
VERSION:2.0
CALSCALE:GREGORIAN
METHOD:PUBLISH
X-WR-CALNAME:Approved absence
X-WR-CALDESC:
X-MS-OLK-FORCEINSPECTOROPEN:TRUE
BEGIN:VEVENT
DTSTAMP:20260422T202035Z
DTSTART:20210718T230000Z
DTEND:20210723T170000Z
TRANSP:TRANSPARENT
UID:959862021-07-19
SUMMARY:Approved absence
DESCRIPTION:
URL:http://www.cmcatlanta.com/index.php/component/ohanah/approved-absence-1?format=html&amp;Itemid=
CATEGORIES:Jenn Cornell
GEO:
LOCATION:CMC Atlanta Faculty Vacation
END:VEVENT
END:VCALENDAR