BEGIN:VCALENDAR
PRODID:-//Feedo Feed//NONSGML v1.0//EN
VERSION:2.0
CALSCALE:GREGORIAN
METHOD:PUBLISH
X-WR-CALNAME:Approved Absence
X-WR-CALDESC:
X-MS-OLK-FORCEINSPECTOROPEN:TRUE
BEGIN:VEVENT
DTSTAMP:20260421T142851Z
DTSTART:20220705T080000Z
DTEND:20220705T200000Z
TRANSP:TRANSPARENT
UID:1057722022-07-05
SUMMARY:Approved Absence
DESCRIPTION:
URL:http://www.cmcatlanta.com/index.php/component/ohanah/approved-absence-28?format=html&amp;Itemid=
CATEGORIES:Akeal Evans
GEO:
LOCATION:CMC Little 5 Points, Faculty Assignment
END:VEVENT
END:VCALENDAR