BEGIN:VCALENDAR
PRODID:-//Feedo Feed//NONSGML v1.0//EN
VERSION:2.0
CALSCALE:GREGORIAN
METHOD:PUBLISH
X-WR-CALNAME:APPROVED ABSENCE
X-WR-CALDESC:
X-MS-OLK-FORCEINSPECTOROPEN:TRUE
BEGIN:VEVENT
DTSTAMP:20260421T161004Z
DTSTART:20220717T230000Z
DTEND:20220718T050000Z
TRANSP:TRANSPARENT
UID:1062782022-07-18
SUMMARY:APPROVED ABSENCE
DESCRIPTION:
URL:http://www.cmcatlanta.com/index.php/component/ohanah/approved-absence-59?format=html&amp;Itemid=
CATEGORIES:Jack Lloyd
GEO:
LOCATION:
END:VEVENT
END:VCALENDAR