BEGIN:VCALENDAR
PRODID:-//Feedo Feed//NONSGML v1.0//EN
VERSION:2.0
CALSCALE:GREGORIAN
METHOD:PUBLISH
X-WR-CALNAME:Approved time off 
X-WR-CALDESC:
X-MS-OLK-FORCEINSPECTOROPEN:TRUE
BEGIN:VEVENT
DTSTAMP:20260424T012044Z
DTSTART:20211021T050000Z
DTEND:20211026T170000Z
TRANSP:TRANSPARENT
UID:1030662021-10-21
SUMMARY:Approved time off 
DESCRIPTION:
URL:http://www.cmcatlanta.com/index.php/component/ohanah/approved-time-off-29?format=html&amp;Itemid=
CATEGORIES:Scott Plato
GEO:
LOCATION:
END:VEVENT
END:VCALENDAR