BEGIN:VCALENDAR
PRODID:-//Feedo Feed//NONSGML v1.0//EN
VERSION:2.0
CALSCALE:GREGORIAN
METHOD:PUBLISH
X-WR-CALNAME:April in Paris: Tuesday
X-WR-CALDESC:7:45: Open Building\n8:00-9:00 Dropoff\n9:00: Class I: St. Saens Carnival des Animeaux packet; Focus on Bio of Saint-Saens, Royal March of the Lion, Hens and Roosters, Wild Horses; Have students learn the printed music at the bottom of each page if possible (advanced students) and talk about idée fixe and leitmotifs with everyone. Color pages while listening.  \n10:15-10:45: Snack\n10:45-12:00: Class II: Everyday Sing: Frère Jacques, Nat King Cole's "Je Vous Aime Beaucoup", Alouette, Hot Cross Buns.\n12:00-1:00: Lunch\n1:00-2:15: Class III: -Review of Genres of French Music; Opera, French Baroque, Classical, Romantic, Post-Romantic Impressionism, Modernism. Play excerpts.\n-Four Corners Game: Teacher plays excerpt, elimination game where each corner of room represents a different category and students determine correct genre: choose from: Impressionism, French Baroque, Cajun & Zydeco, French Opera. 10 seconds to correctly choose corner.  \n2:15-3:00: Snack:\n3:00-4:00: Class IV: 3:00-3:15 Rhythm: General Rhythm Lesson, Whole notes, Half, Quarter, Eighth; Review the Rhythms in songs previously covered this day: Dotted quarter in Alouette; Quarters and Halves in Hot Cross Buns\n-3:15-3:30: French Food Rhythm games;\n-3:30-3:45: \n-3:45-4:00: \n4:00-5:30: Choices, Practice, Free time.
X-MS-OLK-FORCEINSPECTOROPEN:TRUE
BEGIN:VEVENT
DTSTAMP:20260421T232918Z
DTSTART:20210406T114500Z
DTEND:20210406T213000Z
TRANSP:TRANSPARENT
UID:951602021-04-06
SUMMARY:April in Paris: Tuesday
DESCRIPTION:7:45: Open Building\n8:00-9:00 Dropoff\n9:00: Class I: St. Saens Carnival des Animeaux packet; Focus on Bio of Saint-Saens, Royal March of the Lion, Hens and Roosters, Wild Horses; Have students learn the printed music at the bottom of each page if possible (advanced students) and talk about idée fixe and leitmotifs with everyone. Color pages while listening.  \n10:15-10:45: Snack\n10:45-12:00: Class II: Everyday Sing: Frère Jacques, Nat King Cole's "Je Vous Aime Beaucoup", Alouette, Hot Cross Buns.\n12:00-1:00: Lunch\n1:00-2:15: Class III: -Review of Genres of French Music; Opera, French Baroque, Classical, Romantic, Post-Romantic Impressionism, Modernism. Play excerpts.\n-Four Corners Game: Teacher plays excerpt, elimination game where each corner of room represents a different category and students determine correct genre: choose from: Impressionism, French Baroque, Cajun & Zydeco, French Opera. 10 seconds to correctly choose corner.  \n2:15-3:00: Snack:\n3:00-4:00: Class IV: 3:00-3:15 Rhythm: General Rhythm Lesson, Whole notes, Half, Quarter, Eighth; Review the Rhythms in songs previously covered this day: Dotted quarter in Alouette; Quarters and Halves in Hot Cross Buns\n-3:15-3:30: French Food Rhythm games;\n-3:30-3:45: \n-3:45-4:00: \n4:00-5:30: Choices, Practice, Free time.
URL:http://www.cmcatlanta.com/index.php/component/ohanah/april-in-paris-tuesday?format=html&amp;Itemid=
CATEGORIES:Daily Lesson Plans
GEO:33.7646878;-84.35068100000001
LOCATION:CMC Little 5 Points, Private Lesson
END:VEVENT
END:VCALENDAR