BEGIN:VCALENDAR
PRODID:-//Feedo Feed//NONSGML v1.0//EN
VERSION:2.0
CALSCALE:GREGORIAN
METHOD:PUBLISH
X-WR-CALNAME:CMC L5P Fall Break: no lessons, no classes
X-WR-CALDESC:L5P follows the APS calendar.  All lessons and classes canceled.  
X-MS-OLK-FORCEINSPECTOROPEN:TRUE
BEGIN:VEVENT
DTSTAMP:20260423T164049Z
DTSTART:20231009T040000Z
DTEND:20231014T220000Z
TRANSP:TRANSPARENT
UID:1117792023-10-09
SUMMARY:CMC L5P Fall Break: no lessons, no classes
DESCRIPTION:L5P follows the APS calendar.  All lessons and classes canceled.  
URL:http://www.cmcatlanta.com/index.php/component/ohanah/aps-fall-break-l5p-closed?format=html&amp;Itemid=
CATEGORIES:Master Calendar
GEO:33.7646878;-84.35068100000001
LOCATION:CMC Little 5 Points 
END:VEVENT
END:VCALENDAR