BEGIN:VCALENDAR
PRODID:-//Feedo Feed//NONSGML v1.0//EN
VERSION:2.0
CALSCALE:GREGORIAN
METHOD:PUBLISH
X-WR-CALNAME:Ashling Clark Approved Absence
X-WR-CALDESC:
X-MS-OLK-FORCEINSPECTOROPEN:TRUE
BEGIN:VEVENT
DTSTAMP:20260424T201053Z
DTSTART:20230606T230000Z
DTEND:20230607T050000Z
TRANSP:TRANSPARENT
UID:1110182023-06-07
SUMMARY:Ashling Clark Approved Absence
DESCRIPTION:
URL:http://www.cmcatlanta.com/index.php/component/ohanah/ashling-clark-approved-absence-2?format=html&amp;Itemid=
CATEGORIES:Rachel Odendahl
GEO:
LOCATION:
END:VEVENT
END:VCALENDAR