BEGIN:VCALENDAR
PRODID:-//Feedo Feed//NONSGML v1.0//EN
VERSION:2.0
CALSCALE:GREGORIAN
METHOD:PUBLISH
X-WR-CALNAME:Ashling Clark Approved Absence
X-WR-CALDESC:
X-MS-OLK-FORCEINSPECTOROPEN:TRUE
BEGIN:VEVENT
DTSTAMP:20260424T161320Z
DTSTART:20230706T230000Z
DTEND:20230707T050000Z
TRANSP:TRANSPARENT
UID:1113282023-07-07
SUMMARY:Ashling Clark Approved Absence
DESCRIPTION:
URL:http://www.cmcatlanta.com/index.php/component/ohanah/ashling-clark-approved-absence-9?format=html&amp;Itemid=
CATEGORIES:Rachel Odendahl
GEO:
LOCATION:
END:VEVENT
END:VCALENDAR