BEGIN:VCALENDAR
PRODID:-//Feedo Feed//NONSGML v1.0//EN
VERSION:2.0
CALSCALE:GREGORIAN
METHOD:PUBLISH
X-WR-CALNAME:Atlanta Music High School Recital - L5P
X-WR-CALDESC:AMHS recital.  High school division, ensembles, chamber music, and solo pieces.  \n 
X-MS-OLK-FORCEINSPECTOROPEN:TRUE
BEGIN:VEVENT
DTSTAMP:20260422T200522Z
DTSTART:20231208T230000Z
DTEND:20231209T010000Z
TRANSP:TRANSPARENT
UID:1117722023-12-08
SUMMARY:Atlanta Music High School Recital - L5P
DESCRIPTION:AMHS recital.  High school division, ensembles, chamber music, and solo pieces.  \n 
URL:http://www.cmcatlanta.com/index.php/component/ohanah/atlanta-music-high-school-recital-l5p?format=html&amp;Itemid=
CATEGORIES:Master Calendar
GEO:33.7646878;-84.35068100000001
LOCATION:CMC Little 5 Points 
END:VEVENT
END:VCALENDAR