BEGIN:VCALENDAR
PRODID:-//Feedo Feed//NONSGML v1.0//EN
VERSION:2.0
CALSCALE:GREGORIAN
METHOD:PUBLISH
X-WR-CALNAME:Atlanta Music High School Student Showcase
X-WR-CALDESC:Solo and ensemble performances.
X-MS-OLK-FORCEINSPECTOROPEN:TRUE
BEGIN:VEVENT
DTSTAMP:20260422T122418Z
DTSTART:20221205T150000Z
DTEND:20221205T160000Z
TRANSP:TRANSPARENT
UID:1103602022-12-05
SUMMARY:Atlanta Music High School Student Showcase
DESCRIPTION:Solo and ensemble performances.
URL:http://www.cmcatlanta.com/index.php/component/ohanah/atlanta-music-high-school-student-showcase?format=html&amp;Itemid=
CATEGORIES:Master Calendar
GEO:33.7646878;-84.35068100000001
LOCATION:CMC Little 5 Points 
END:VEVENT
END:VCALENDAR