BEGIN:VCALENDAR
PRODID:-//Feedo Feed//NONSGML v1.0//EN
VERSION:2.0
CALSCALE:GREGORIAN
METHOD:PUBLISH
X-WR-CALNAME:Ava and Elise Kelly
X-WR-CALDESC:
X-MS-OLK-FORCEINSPECTOROPEN:TRUE
BEGIN:VEVENT
DTSTAMP:20260421T210812Z
DTSTART:20210124T154500Z
DTEND:20210124T164500Z
TRANSP:TRANSPARENT
UID:895892021-01-24
SUMMARY:Ava and Elise Kelly
DESCRIPTION:
URL:http://www.cmcatlanta.com/index.php/component/ohanah/ava-and-elise-kelly-34?format=html&amp;Itemid=
CATEGORIES:Stephen Pepper
GEO:33.9462125;-84.33464730000003
LOCATION:CMC Dunwoody, Private Lesson
END:VEVENT
END:VCALENDAR