BEGIN:VCALENDAR
PRODID:-//Feedo Feed//NONSGML v1.0//EN
VERSION:2.0
CALSCALE:GREGORIAN
METHOD:PUBLISH
X-WR-CALNAME:Avery Baker
X-WR-CALDESC:
X-MS-OLK-FORCEINSPECTOROPEN:TRUE
BEGIN:VEVENT
DTSTAMP:20260423T031105Z
DTSTART:20230209T203000Z
DTEND:20230209T210000Z
TRANSP:TRANSPARENT
UID:1107732023-02-09
SUMMARY:Avery Baker
DESCRIPTION:
URL:http://www.cmcatlanta.com/index.php/component/ohanah/avery-baker-2?format=html&amp;Itemid=
CATEGORIES:Khesner Oliveira
GEO:33.7704955;-84.29584339999997
LOCATION:CMC Decatur, Private Lesson
END:VEVENT
END:VCALENDAR