BEGIN:VCALENDAR
PRODID:-//Feedo Feed//NONSGML v1.0//EN
VERSION:2.0
CALSCALE:GREGORIAN
METHOD:PUBLISH
X-WR-CALNAME:Beaux Santora
X-WR-CALDESC:
X-MS-OLK-FORCEINSPECTOROPEN:TRUE
BEGIN:VEVENT
DTSTAMP:20260422T182046Z
DTSTART:20230809T193000Z
DTEND:20230809T200000Z
TRANSP:TRANSPARENT
UID:1089082023-08-09
SUMMARY:Beaux Santora
DESCRIPTION:
URL:http://www.cmcatlanta.com/index.php/component/ohanah/beaux-santora-24?format=html&amp;Itemid=
CATEGORIES:Khesner Oliveira
GEO:33.7704955;-84.29584339999997
LOCATION:CMC Decatur, Private Lesson
END:VEVENT
END:VCALENDAR