BEGIN:VCALENDAR
PRODID:-//Feedo Feed//NONSGML v1.0//EN
VERSION:2.0
CALSCALE:GREGORIAN
METHOD:PUBLISH
X-WR-CALNAME:Beaux Santora
X-WR-CALDESC:
X-MS-OLK-FORCEINSPECTOROPEN:TRUE
BEGIN:VEVENT
DTSTAMP:20260422T163906Z
DTSTART:20230329T193000Z
DTEND:20230329T200000Z
TRANSP:TRANSPARENT
UID:1088892023-03-29
SUMMARY:Beaux Santora
DESCRIPTION:
URL:http://www.cmcatlanta.com/index.php/component/ohanah/beaux-santora-9?format=html&amp;Itemid=
CATEGORIES:Khesner Oliveira
GEO:33.7704955;-84.29584339999997
LOCATION:CMC Decatur, Private Lesson
END:VEVENT
END:VCALENDAR