BEGIN:VCALENDAR
PRODID:-//Feedo Feed//NONSGML v1.0//EN
VERSION:2.0
CALSCALE:GREGORIAN
METHOD:PUBLISH
X-WR-CALNAME:Benny Frank
X-WR-CALDESC:
X-MS-OLK-FORCEINSPECTOROPEN:TRUE
BEGIN:VEVENT
DTSTAMP:20260422T021803Z
DTSTART:20230509T220000Z
DTEND:20230509T223000Z
TRANSP:TRANSPARENT
UID:1078412023-05-09
SUMMARY:Benny Frank
DESCRIPTION:
URL:http://www.cmcatlanta.com/index.php/component/ohanah/benny-frank-39?format=html&amp;Itemid=
CATEGORIES:Stephen Pepper
GEO:33.7704955;-84.29584339999997
LOCATION:CMC Decatur, Private Lesson
END:VEVENT
END:VCALENDAR