BEGIN:VCALENDAR
PRODID:-//Feedo Feed//NONSGML v1.0//EN
VERSION:2.0
CALSCALE:GREGORIAN
METHOD:PUBLISH
X-WR-CALNAME:Biden Bouchard
X-WR-CALDESC:
X-MS-OLK-FORCEINSPECTOROPEN:TRUE
BEGIN:VEVENT
DTSTAMP:20260421T232009Z
DTSTART:20230123T193000Z
DTEND:20230123T200000Z
TRANSP:TRANSPARENT
UID:1070282023-01-23
SUMMARY:Biden Bouchard
DESCRIPTION:
URL:http://www.cmcatlanta.com/index.php/component/ohanah/biden-bouchard-24?format=html&amp;Itemid=
CATEGORIES:Stephanie Cordoba 
GEO:33.7704955;-84.29584339999997
LOCATION:CMC Decatur, Private Lesson
END:VEVENT
END:VCALENDAR