BEGIN:VCALENDAR
PRODID:-//Feedo Feed//NONSGML v1.0//EN
VERSION:2.0
CALSCALE:GREGORIAN
METHOD:PUBLISH
X-WR-CALNAME:Biden Bouchard
X-WR-CALDESC:
X-MS-OLK-FORCEINSPECTOROPEN:TRUE
BEGIN:VEVENT
DTSTAMP:20260421T235855Z
DTSTART:20220829T193000Z
DTEND:20220829T200000Z
TRANSP:TRANSPARENT
UID:1070072022-08-29
SUMMARY:Biden Bouchard
DESCRIPTION:
URL:http://www.cmcatlanta.com/index.php/component/ohanah/biden-bouchard-3?format=html&amp;Itemid=
CATEGORIES:Stephanie Cordoba 
GEO:33.7704955;-84.29584339999997
LOCATION:CMC Decatur, Private Lesson
END:VEVENT
END:VCALENDAR