BEGIN:VCALENDAR
PRODID:-//Feedo Feed//NONSGML v1.0//EN
VERSION:2.0
CALSCALE:GREGORIAN
METHOD:PUBLISH
X-WR-CALNAME:Braxton Tookes
X-WR-CALDESC:
X-MS-OLK-FORCEINSPECTOROPEN:TRUE
BEGIN:VEVENT
DTSTAMP:20260421T133545Z
DTSTART:20220628T220000Z
DTEND:20220628T223000Z
TRANSP:TRANSPARENT
UID:1057642022-06-28
SUMMARY:Braxton Tookes
DESCRIPTION:
URL:http://www.cmcatlanta.com/index.php/component/ohanah/braxton-tookes-12-5?format=html&amp;Itemid=
CATEGORIES:Akeal Evans
GEO:33.7646878;-84.35068100000001
LOCATION:CMC Little 5 Points, Private Lesson
END:VEVENT
END:VCALENDAR