BEGIN:VCALENDAR
PRODID:-//Feedo Feed//NONSGML v1.0//EN
VERSION:2.0
CALSCALE:GREGORIAN
METHOD:PUBLISH
X-WR-CALNAME:Brookhaven AMP (approved absence)
X-WR-CALDESC:
X-MS-OLK-FORCEINSPECTOROPEN:TRUE
BEGIN:VEVENT
DTSTAMP:20260423T100000Z
DTSTART:20171013T123000Z
DTEND:20171013T173000Z
TRANSP:TRANSPARENT
UID:591262017-10-13
SUMMARY:Brookhaven AMP (approved absence)
DESCRIPTION:
URL:http://www.cmcatlanta.com/index.php/component/ohanah/brookhaven-amp-125?format=html&amp;Itemid=
CATEGORIES:Ken Luk
GEO:
LOCATION:CMC Brookhaven, Faculty Assignment
END:VEVENT
END:VCALENDAR