BEGIN:VCALENDAR
PRODID:-//Feedo Feed//NONSGML v1.0//EN
VERSION:2.0
CALSCALE:GREGORIAN
METHOD:PUBLISH
X-WR-CALNAME:Sub for Diana in L5P
X-WR-CALDESC:
X-MS-OLK-FORCEINSPECTOROPEN:TRUE
BEGIN:VEVENT
DTSTAMP:20260423T144708Z
DTSTART:20180126T173000Z
DTEND:20180126T223000Z
TRANSP:TRANSPARENT
UID:591412018-01-26
SUMMARY:Sub for Diana in L5P
DESCRIPTION:
URL:http://www.cmcatlanta.com/index.php/component/ohanah/brookhaven-amp-140?format=html&amp;Itemid=
CATEGORIES:Ken Luk
GEO:33.764702;-84.35057239999998
LOCATION:CMC Little Five Points, Faculty Assignment
END:VEVENT
END:VCALENDAR