BEGIN:VCALENDAR
PRODID:-//Feedo Feed//NONSGML v1.0//EN
VERSION:2.0
CALSCALE:GREGORIAN
METHOD:PUBLISH
X-WR-CALNAME:Caelo Threats
X-WR-CALDESC:
X-MS-OLK-FORCEINSPECTOROPEN:TRUE
BEGIN:VEVENT
DTSTAMP:20260422T161208Z
DTSTART:20210624T150000Z
DTEND:20210624T153000Z
TRANSP:TRANSPARENT
UID:957422021-06-24
SUMMARY:Caelo Threats
DESCRIPTION:
URL:http://www.cmcatlanta.com/index.php/component/ohanah/caelo-threats-1?format=html&amp;Itemid=
CATEGORIES:Pedro Morales
GEO:33.7704955;-84.29584339999997
LOCATION:CMC Decatur, Private Lesson
END:VEVENT
END:VCALENDAR