BEGIN:VCALENDAR
PRODID:-//Feedo Feed//NONSGML v1.0//EN
VERSION:2.0
CALSCALE:GREGORIAN
METHOD:PUBLISH
X-WR-CALNAME:Caelo Threats
X-WR-CALDESC:
X-MS-OLK-FORCEINSPECTOROPEN:TRUE
BEGIN:VEVENT
DTSTAMP:20260422T172929Z
DTSTART:20210706T143000Z
DTEND:20210706T150000Z
TRANSP:TRANSPARENT
UID:959012021-07-06
SUMMARY:Caelo Threats
DESCRIPTION:
URL:http://www.cmcatlanta.com/index.php/component/ohanah/caelo-threats-2?format=html&amp;Itemid=
CATEGORIES:Pedro Morales
GEO:33.7646878;-84.35068100000001
LOCATION:CMC Little 5 Points, Private Lesson
END:VEVENT
END:VCALENDAR