BEGIN:VCALENDAR
PRODID:-//Feedo Feed//NONSGML v1.0//EN
VERSION:2.0
CALSCALE:GREGORIAN
METHOD:PUBLISH
X-WR-CALNAME:Cailen Cagenhead (Ableton)
X-WR-CALDESC:
X-MS-OLK-FORCEINSPECTOROPEN:TRUE
BEGIN:VEVENT
DTSTAMP:20260420T232140Z
DTSTART:20220428T140000Z
DTEND:20220428T150000Z
TRANSP:TRANSPARENT
UID:1030602022-04-28
SUMMARY:Cailen Cagenhead (Ableton)
DESCRIPTION:
URL:http://www.cmcatlanta.com/index.php/component/ohanah/cailen-cagenhead-ableton-32?format=html&amp;Itemid=
CATEGORIES:Akeal Evans
GEO:33.7646878;-84.35068100000001
LOCATION:CMC Little 5 Points, Private Lesson
END:VEVENT
END:VCALENDAR