BEGIN:VCALENDAR
PRODID:-//Feedo Feed//NONSGML v1.0//EN
VERSION:2.0
CALSCALE:GREGORIAN
METHOD:PUBLISH
X-WR-CALNAME:Caitlin Simrad
X-WR-CALDESC:
X-MS-OLK-FORCEINSPECTOROPEN:TRUE
BEGIN:VEVENT
DTSTAMP:20260423T114532Z
DTSTART:20230315T183000Z
DTEND:20230315T193000Z
TRANSP:TRANSPARENT
UID:1108482023-03-15
SUMMARY:Caitlin Simrad
DESCRIPTION:
URL:http://www.cmcatlanta.com/index.php/component/ohanah/caitlin-simrad-5?format=html&amp;Itemid=
CATEGORIES:Scott Plato
GEO:33.7646878;-84.35068100000001
LOCATION:CMC Little 5 Points, Private Lesson
END:VEVENT
END:VCALENDAR